BEGIN:VCALENDAR
VERSION:2.0
PRODID:-//Biodanza for Wellbeing - ECPv6.15.20//NONSGML v1.0//EN
CALSCALE:GREGORIAN
METHOD:PUBLISH
X-ORIGINAL-URL:https://biodanzaforwellbeing.co.uk
X-WR-CALDESC:Events for Biodanza for Wellbeing
REFRESH-INTERVAL;VALUE=DURATION:PT1H
X-Robots-Tag:noindex
X-PUBLISHED-TTL:PT1H
BEGIN:VTIMEZONE
TZID:Europe/London
BEGIN:DAYLIGHT
TZOFFSETFROM:+0000
TZOFFSETTO:+0100
TZNAME:BST
DTSTART:20250330T010000
END:DAYLIGHT
BEGIN:STANDARD
TZOFFSETFROM:+0100
TZOFFSETTO:+0000
TZNAME:GMT
DTSTART:20251026T010000
END:STANDARD
BEGIN:DAYLIGHT
TZOFFSETFROM:+0000
TZOFFSETTO:+0100
TZNAME:BST
DTSTART:20260329T010000
END:DAYLIGHT
BEGIN:STANDARD
TZOFFSETFROM:+0100
TZOFFSETTO:+0000
TZNAME:GMT
DTSTART:20261025T010000
END:STANDARD
BEGIN:DAYLIGHT
TZOFFSETFROM:+0000
TZOFFSETTO:+0100
TZNAME:BST
DTSTART:20270328T010000
END:DAYLIGHT
BEGIN:STANDARD
TZOFFSETFROM:+0100
TZOFFSETTO:+0000
TZNAME:GMT
DTSTART:20271031T010000
END:STANDARD
END:VTIMEZONE
BEGIN:VEVENT
DTSTART;TZID=Europe/London:20260412T100000
DTEND;TZID=Europe/London:20260412T170000
DTSTAMP:20260419T140500
CREATED:20260304T094505Z
LAST-MODIFIED:20260304T094559Z
UID:1816-1775988000-1776013200@biodanzaforwellbeing.co.uk
SUMMARY:The Dance of Waters Biodanza Weekend 2
DESCRIPTION:A soulful weekend retreat\, where movement\, music and the group are the medicine for wellbeing. Guided by the life-affirming practice of Biodanza through movement\, presence\, and connection\, we will dance the waters within—restoring energy\, releasing resistance\, and remembering the joy of being fully alive. Let yourself soften\, shimmer\, and submerge into the experience. \nThis is the second time Catherine will facilitate this particular retreat\, and is offering this invitation again due to the success of the first event in Glasgow. We will explore the elements in Biodanza and with a particular focus on the water element. Water represents\, adaptability\, fluidity and flow\, beauty and nourishment. It is soothing\, cleansing and life-giving. We will dance the divine\, powerful nature that is water. \nInspired by the work of Veda Austin \n“Water is the rebel element\, it won’t conform to the laws of physics or gravity and it can’t be killed. Without it there is no life. It reincarnates for all to see and science tells us it came to Earth from outer space. Rebellious\, nonconformist\, eternal and alien…..just look at the power we are filled with.”  Veda Austin \nAbout Catherine\, Biodanza Facilitator\, Glasgow\nCatherine graduated in 2012 from the Edinburgh Biodanza school and teaches weekly classes and regular workshops in Glasgow.  She is a qualified Didactic Teacher (2016) and trained in the extension to teach children and families and danced with 3 to 5 year olds for many years in nursery school. Nowadays she runs workshops and retreats with adults (mostly) and sessions with kids and their parents/carers. Catherine is also a University Academic with over 20 years experience in higher education and is about people\, personal and community development\, and Biodanza! Catherine has been teaching with Maria at the Biodanza Festival North since the first gathering. \n“Biodanza brings us back to our authentic self which is always transforming. It touches the deepest part\nof our heart. I felt deeply inspired when I created this proposal and a whole weekend retreat with\nlikeminded beautiful souls is a precious gift\, I would be honoured to welcome you”. Catherine \nWho is this workshop for?\nThis workshop is open to everyone who practises Biodanza. \nThe practical information:  \n🕛 Saturday 11th April 2026\, Starting 2:00 p.m\, Finishing 8:00 p.m. \n🕛 Sunday 12th April 2026\, Starting 10:00 a.m\, Finishing 5:00 p.m. \n🏷️ Price: £115 Early bird price when booked before 30th March. £135 Full price \n✅ You need to attend both sessions\, you cannot attend just one. Please note that this is a non-residential event. Accommodation has to be arranged independently. \n✅ The studio is located just minutes away from Manchester city centre. \n✅ There is free on-site parking (car registration required upon arrival) – free street parking is also available around the venue \n✅ Easy access via Cornbrook & Deansgate stations. \n✅ Feel free to bring food to share at break time. \n✅ There will be refreshments all throughout. \nThis event is organized by Biodanza for Wellbeing. \nFor more information and to book your place please contact: \nMaria on:\n📧 biodanzaforwellbeing@gmail.com\n📞 07972854627
URL:https://biodanzaforwellbeing.co.uk/event/the-dance-of-waters-biodanza-weekend-2/
LOCATION:Fiera Dance\, Unit 15A Empress Business Centre\, Chester Road\, Old Trafford\, Manchester\, M16 9EA\, United Kingdom
CATEGORIES:Workshop
ORGANIZER;CN="Biodanza for Wellbeing":MAILTO:biodanzaforwellbeing@gmail.com
END:VEVENT
BEGIN:VEVENT
DTSTART;TZID=Europe/London:20260412T100000
DTEND;TZID=Europe/London:20260412T170000
DTSTAMP:20260419T140500
CREATED:20260213T124301Z
LAST-MODIFIED:20260213T140453Z
UID:1516-1775988000-1776013200@biodanzaforwellbeing.co.uk
SUMMARY:Workshop with Catherine Canning 2
DESCRIPTION:Information to follow \nBookings and enquiries: \nText/ Whatsapp – 07972854627 \nEmail – biodanzaforwellbeing@gmail.com \nRead more about what to expect in a Biodanza session.
URL:https://biodanzaforwellbeing.co.uk/event/workshop-with-catherine-canning-2/
LOCATION:Fiera Dance\, Unit 15A Empress Business Centre\, Chester Road\, Old Trafford\, Manchester\, M16 9EA\, United Kingdom
CATEGORIES:Workshop
ORGANIZER;CN="Biodanza for Wellbeing":MAILTO:biodanzaforwellbeing@gmail.com
END:VEVENT
BEGIN:VEVENT
DTSTART;TZID=Europe/London:20260411T140000
DTEND;TZID=Europe/London:20260411T200000
DTSTAMP:20260419T140500
CREATED:20260213T123638Z
LAST-MODIFIED:20260308T235726Z
UID:1514-1775916000-1775937600@biodanzaforwellbeing.co.uk
SUMMARY:"The Dance of Waters" Biodanza Weekend
DESCRIPTION:A soulful weekend retreat\, where movement\, music and the group are the medicine for wellbeing. Guided by the life-affirming practice of Biodanza through movement\, presence\, and connection\, we will dance the waters within—restoring energy\, releasing resistance\, and remembering the joy of being fully alive. Let yourself soften\, shimmer\, and submerge into the experience. \nThis is the second time Catherine will facilitate this particular retreat\, and is offering this invitation again due to the success of the first event in Glasgow. We will explore the elements in Biodanza and with a particular focus on the water element. Water represents\, adaptability\, fluidity and flow\, beauty and nourishment. It is soothing\, cleansing and life-giving. We will dance the divine\, powerful nature that is water. \nInspired by the work of Veda Austin \n“Water is the rebel element\, it won’t conform to the laws of physics or gravity and it can’t be killed. Without it there is no life. It reincarnates for all to see and science tells us it came to Earth from outer space. Rebellious\, nonconformist\, eternal and alien…..just look at the power we are filled with.”  Veda Austin \nAbout Catherine\, Biodanza Facilitator\, Glasgow\nCatherine graduated in 2012 from the Edinburgh Biodanza school and teaches weekly classes and regular workshops in Glasgow.  She is a qualified Didactic Teacher (2016) and trained in the extension to teach children and families and danced with 3 to 5 year olds for many years in nursery school. Nowadays she runs workshops and retreats with adults (mostly) and sessions with kids and their parents/carers. Catherine is also a University Academic with over 20 years experience in higher education and is about people\, personal and community development\, and Biodanza! Catherine has been teaching with Maria at the Biodanza Festival North since the first gathering. \n“Biodanza brings us back to our authentic self which is always transforming. It touches the deepest part\nof our heart. I felt deeply inspired when I created this proposal and a whole weekend retreat with\nlikeminded beautiful souls is a precious gift\, I would be honoured to welcome you”. Catherine \nWho is this workshop for?\nThis workshop is open to everyone who practises Biodanza. \nThe practical information:  \n🕛 Saturday 11th April 2026\, Starting 2:00 p.m\, Finishing 8:00 p.m. \n🕛 Sunday 12th April 2026\, Starting 10:00 a.m\, Finishing 5:00 p.m. \n🏷️ Price: £115 Early bird price when booked before 30th March. £135 Full price \n✅ You need to attend both sessions\, you cannot attend just one. Please note that this is a non-residential event. Accommodation has to be arranged independently. \n✅ The studio is located just minutes away from Manchester city centre. \n✅ There is free on-site parking (car registration required upon arrival) – free street parking is also available around the venue \n✅ Easy access via Cornbrook & Deansgate stations. \n✅ Feel free to bring food to share at break time. \n✅ There will be refreshments all throughout. \nThis event is organized by Biodanza for Wellbeing. \nFor more information and to book your place please contact: \nMaria on:\n📧 biodanzaforwellbeing@gmail.com\n📞 07972854627
URL:https://biodanzaforwellbeing.co.uk/event/the-dance-of-waters-biodanza-weekend/
LOCATION:Fiera Dance\, Unit 15A Empress Business Centre\, Chester Road\, Old Trafford\, Manchester\, M16 9EA\, United Kingdom
CATEGORIES:Workshop
ORGANIZER;CN="Biodanza for Wellbeing":MAILTO:biodanzaforwellbeing@gmail.com
END:VEVENT
BEGIN:VEVENT
DTSTART;TZID=Europe/London:20260310T193000
DTEND;TZID=Europe/London:20260310T213000
DTSTAMP:20260419T140500
CREATED:20260218T131540Z
LAST-MODIFIED:20260218T131603Z
UID:1741-1773171000-1773178200@biodanzaforwellbeing.co.uk
SUMMARY:Biodanza Weekly Sessions
DESCRIPTION:These weekly sessions are facilitated by Maria Canizalez-Jerez. Biodanza invites us to grow with others\, working with both our strengths and our challenges within a supportive group setting. \nCome along\, have a go and understand why we love Biodanza. It really can make a difference! All are welcome – no steps to learn and no experience necessary. \nIf you can’t make it this week\, don’t worry – we meet every Tuesday\, same place\, same time.
URL:https://biodanzaforwellbeing.co.uk/event/biodanza-weekly-sessions-2/
LOCATION:Studio 17\, Egerton Road South\, Heaton Moor\, SK4 4LS\, United Kingdom
CATEGORIES:Class
ORGANIZER;CN="Biodanza for Wellbeing":MAILTO:biodanzaforwellbeing@gmail.com
END:VEVENT
BEGIN:VEVENT
DTSTART;TZID=Europe/London:20260303T193000
DTEND;TZID=Europe/London:20260303T213000
DTSTAMP:20260419T140500
CREATED:20260130T115754Z
LAST-MODIFIED:20260218T131448Z
UID:1406-1772566200-1772573400@biodanzaforwellbeing.co.uk
SUMMARY:Biodanza Weekly Sessions
DESCRIPTION:These weekly sessions are facilitated by Maria Canizalez-Jerez. Biodanza invites us to grow with others\, working with both our strengths and our challenges within a supportive group setting. \nCome along\, have a go and understand why we love Biodanza. It really can make a difference! All are welcome – no steps to learn and no experience necessary. \nIf you can’t make it this week\, don’t worry – we meet every Tuesday\, same place\, same time.
URL:https://biodanzaforwellbeing.co.uk/event/biodanza-weekly-manchester/
LOCATION:Studio 17\, Egerton Road South\, Heaton Moor\, SK4 4LS\, United Kingdom
CATEGORIES:Class
ORGANIZER;CN="Biodanza for Wellbeing":MAILTO:biodanzaforwellbeing@gmail.com
END:VEVENT
END:VCALENDAR